BEGIN:VCALENDAR
VERSION:2.0
PRODID:-//St. Johanni Bürgerschützenverein Borken e.V. - ECPv4.3.1.1//NONSGML v1.0//EN
CALSCALE:GREGORIAN
METHOD:PUBLISH
X-WR-CALNAME:St. Johanni Bürgerschützenverein Borken e.V.
X-ORIGINAL-URL:https://st-johanni-borken.de
X-WR-CALDESC:Events for St. Johanni Bürgerschützenverein Borken e.V.
BEGIN:VEVENT
DTSTART;TZID=Europe/Berlin:20260828T180000
DTEND;TZID=Europe/Berlin:20260828T235500
DTSTAMP:20260424T163242
CREATED:20230406T095243Z
LAST-MODIFIED:20251105T160027Z
UID:10622-1787940000-1787961300@st-johanni-borken.de
SUMMARY:Runkelwerfen
DESCRIPTION:
URL:https://st-johanni-borken.de/feste/runkelwerfen/
CATEGORIES:Schützenfeste
END:VEVENT
END:VCALENDAR